BEGIN:VCALENDAR
VERSION:2.0
PRODID:-//pretix//pretix.eu//
BEGIN:VTIMEZONE
TZID:Europe/Berlin
BEGIN:STANDARD
DTSTART:20001029T040000
RRULE:FREQ=YEARLY;BYDAY=-1SU;BYMONTH=10
TZNAME:CET
TZOFFSETFROM:+0200
TZOFFSETTO:+0100
END:STANDARD
BEGIN:DAYLIGHT
DTSTART:20000326T030000
RRULE:FREQ=YEARLY;BYDAY=-1SU;BYMONTH=3
TZNAME:CEST
TZOFFSETFROM:+0100
TZOFFSETTO:+0200
END:DAYLIGHT
END:VTIMEZONE
BEGIN:VEVENT
UID:pretix-ecc-oberemmel-vt-ecc-4817307@ecc-oberemmel.vereinsticket.de
DTSTART;TZID=Europe/Berlin:20260207T201100
DTEND;TZID=Europe/Berlin:20260207T235900
DESCRIPTION:Tickets: https://ecc-oberemmel.vereinsticket.de/vt-ecc/4817307/
 \nVeranstalter: Emmler Carnevals Club Hei-Her / Do-Her 1983 e.V.
DTSTAMP:20260425T130024Z
LOCATION:Narrhalla Oberemmel\, Im Großengarten\, 54329 Konz
SUMMARY:1. Kappensitzung
END:VEVENT
END:VCALENDAR
